View In:
ArcGIS JavaScript
ArcGIS Online Map Viewer
ArcGIS Earth
ArcGIS Pro
Service Description: <div style='text-align:Left;font-size:12pt'><p><span>This map portrays surface elevation as shaded relief. This map is used as a basemap layer to add shaded relief to other GIS maps, such as the ArcGIS Online World Street Map. It is especially useful in maps that do not contain orthoimagery. The map resolution (cell size) is as follows: 30 Meters for the U.S. 90 Meters for all land areas between 60° north and 56° south latitude. 1 KM resolution above 60° north and 56° south. The shaded relief imagery was developed by Esri using GTOPO30, Shuttle Radar Topography Mission (SRTM), and National Elevation Data (NED) data from the USGS. For more information on this map, including our terms of use, visit us online at https://goto.arcgisonline.com/maps/World_Shaded_Relief</span></p></div>
Map Name: Layers
Legend
All Layers and Tables
Layers:
Description: <DIV STYLE="text-align:Left;font-size:12pt"><P><SPAN>This map portrays surface elevation as shaded relief. This map is used as a basemap layer to add shaded relief to other GIS maps, such as the ArcGIS Online World Street Map. It is especially useful in maps that do not contain orthoimagery. The map resolution (cell size) is as follows: 30 Meters for the U.S. 90 Meters for all land areas between 60° north and 56° south latitude. 1 KM resolution above 60° north and 56° south. The shaded relief imagery was developed by Esri using GTOPO30, Shuttle Radar Topography Mission (SRTM), and National Elevation Data (NED) data from the USGS. For more information on this map, including our terms of use, visit us online at https://goto.arcgisonline.com/maps/World_Shaded_Relief</SPAN></P></DIV>
Copyright Text: Copyright:(c) 2014 Esri
Spatial Reference:
102100
(3857)
LatestVCSWkid(0)
Single Fused Map Cache: true
Tile Info:
- Height: 256.0
- Width: 256.0
- DPI: 96.0
-
Levels of Detail: 14
-
Level ID: 0
[ Start Tile, End Tile ]
- Resolution: 156543.03392800014
- Scale: 5.91657527591555E8
-
Level ID: 1
[ Start Tile, End Tile ]
- Resolution: 78271.51696399994
- Scale: 2.95828763795777E8
-
Level ID: 2
[ Start Tile, End Tile ]
- Resolution: 39135.75848200009
- Scale: 1.47914381897889E8
-
Level ID: 3
[ Start Tile, End Tile ]
- Resolution: 19567.87924099992
- Scale: 7.3957190948944E7
-
Level ID: 4
[ Start Tile, End Tile ]
- Resolution: 9783.93962049996
- Scale: 3.6978595474472E7
-
Level ID: 5
[ Start Tile, End Tile ]
- Resolution: 4891.96981024998
- Scale: 1.8489297737236E7
- Format: JPEG
- Compression Quality: 90.0
- Origin: X: -2.0037508342787E7
Y: 2.0037508342787E7
- Spatial Reference: 102100
(3857)
LatestVCSWkid(0)
Storage Info:
- Storage Format: esriMapCacheStorageModeCompactV2
- Packet Size: 128
Initial Extent:
XMin: -2.0037507067161843E7
YMin: -2.2029383402552262E7
XMax: 2.0037507067161843E7
YMax: 2.207353758401698E7
Spatial Reference: 102100
(3857)
LatestVCSWkid(0)
Full Extent:
XMin: -2.0037507067161843E7
YMin: -1.999070943504232E7
XMax: 2.0037507067161843E7
YMax: 2.0034863616507012E7
Spatial Reference: 102100
(3857)
LatestVCSWkid(0)
Units: esriMeters
Supported Image Format Types: PNG32,PNG24,PNG,JPG,DIB,TIFF,EMF,PS,PDF,GIF,SVG,SVGZ,BMP
Document Info:
Title: World Shaded Relief
Author:
Comments: <DIV STYLE="text-align:Left;font-size:12pt"><P><SPAN>This map portrays surface elevation as shaded relief. This map is used as a basemap layer to add shaded relief to other GIS maps, such as the ArcGIS Online World Street Map. It is especially useful in maps that do not contain orthoimagery. The map resolution (cell size) is as follows: 30 Meters for the U.S. 90 Meters for all land areas between 60° north and 56° south latitude. 1 KM resolution above 60° north and 56° south. The shaded relief imagery was developed by Esri using GTOPO30, Shuttle Radar Topography Mission (SRTM), and National Elevation Data (NED) data from the USGS. For more information on this map, including our terms of use, visit us online at https://goto.arcgisonline.com/maps/World_Shaded_Relief</SPAN></P></DIV>
Subject: In mature support; no longer updated.
Category:
Keywords: World,Global
AntialiasingMode: None
TextAntialiasingMode: Force
Supports Dynamic Layers: false
MaxRecordCount: 2000
MaxSelectionCount: 2000
MaxImageHeight: 4096
MaxImageWidth: 4096
Supported Query Formats: JSON, geoJSON, PBF
Supports Query Data Elements: true
Min Scale: 0
Max Scale: 0
Supports Datum Transformation: true
Child Resources:
Info
Supported Operations:
Export Map
QueryLegends
Return Updates
Generate KML