View In:
  ArcGIS JavaScript
  ArcGIS Online Map Viewer
  ArcGIS Earth
  ArcGIS Pro
Service Description:  This map is designed to be used by GIS professionals to overlay base maps and thematic maps such as demographics or land cover for reference purposes. The reference map includes administrative boundaries, cities, water features, physiographic features, parks, landmarks, highways, roads, railways, and airports on a transparent background. The map was compiled from a variety of best available sources from several data providers, including the U.S. Geological Survey, National Park Service, Garmin, and ESRI. The reference map currently provides coverage for the world down to a scale of ~1:1m and coverage for the continental United States and Hawaii to a scale of ~1:70k. For more information on this map, including our terms of use, visit us online at https://goto.arcgisonline.com/maps/Reference/World_Reference_Overlay
 Layers
Legend
All Layers and Tables
Layers: 
Description:  This map is designed to be used by GIS professionals to overlay base maps and thematic maps such as demographics or land cover for reference purposes. The reference map includes administrative boundaries, cities, water features, physiographic features, parks, landmarks, highways, roads, railways, and airports on a transparent background. The map was compiled from a variety of best available sources from several data providers, including the U.S. Geological Survey, National Park Service, Garmin, and ESRI. The reference map currently provides coverage for the world down to a scale of ~1:1m and coverage for the continental United States and Hawaii to a scale of ~1:70k. For more information on this map, including our terms of use, visit us online at https://goto.arcgisonline.com/maps/Reference/World_Reference_Overlay
 Sources: Esri, Garmin, USGS, NPS 
Spatial Reference: 
102100
 (3857)
Single Fused Map Cache:  true
Tile Info: 
- Height: 256
- Width: 256
- DPI: 96
- 
Levels of Detail:  14
- 
Level ID: 0
[ Start Tile, End Tile ]
- Resolution: 156543.03392800014
- Scale: 5.91657527591555E8
- 
Level ID: 1
[ Start Tile, End Tile ]
- Resolution: 78271.51696399994
- Scale: 2.95828763795777E8
- 
Level ID: 2
[ Start Tile, End Tile ]
- Resolution: 39135.75848200009
- Scale: 1.47914381897889E8
- 
Level ID: 3
[ Start Tile, End Tile ]
- Resolution: 19567.87924099992
- Scale: 7.3957190948944E7
- 
Level ID: 4
[ Start Tile, End Tile ]
- Resolution: 9783.93962049996
- Scale: 3.6978595474472E7
- 
Level ID: 5
[ Start Tile, End Tile ]
- Resolution: 4891.96981024998
- Scale: 1.8489297737236E7
- Format: PNG32
- Compression Quality: 0.0
- Origin: X:  -2.0037508342787E7
 Y:  2.0037508342787E7
 
- Spatial Reference: 102100
 (3857)
 
Storage Info:
- Storage Format: esriMapCacheStorageModeCompactV2
- Packet Size: 128
Initial Extent:
XMin: -2.0037507067161843E7
YMin: -2.328451214794976E7
XMax: 2.0037507067161843E7
YMax: 2.3328666329414517E7
Spatial Reference: 102100
Full Extent:
XMin: -2.0037507067161843E7
YMin: -1.999070943504232E7
XMax: 2.0037507067161843E7
YMax: 2.0034863616507012E7
Spatial Reference: 102100
Units: esriMeters
Supported Image Format Types:  PNG32,PNG24,PNG,JPG,DIB,TIFF,EMF,PS,PDF,GIF,SVG,SVGZ,BMP
Document Info: 
Title: World Reference Overlay
Author: 
Comments: <DIV STYLE="text-align:Left;font-size:12pt"><P><SPAN>This map is designed to be used by GIS professionals to overlay base maps and thematic maps such as demographics or land cover for reference purposes. The reference map includes administrative boundaries, cities, water features, physiographic features, parks, landmarks, highways, roads, railways, and airports on a transparent background. The map was compiled from a variety of best available sources from several data providers, including the U.S. Geological Survey, National Park Service, Garmin, and ESRI. The reference map currently provides coverage for the world down to a scale of ~1:1m and coverage for the continental United States and Hawaii to a scale of ~1:70k. For more information on this map, including our terms of use, visit us online at https://goto.arcgisonline.com/maps/Reference/World_Reference_Overlay</SPAN></P></DIV>
Subject: In mature support; no longer updated.
Category: 
Keywords: World,Global,Europe,North America,South America,Central America,India,Asia,Middle East,Northern Africa,Southern Africa,Australia,New Zealand
AntialiasingMode: Fast
TextAntialiasingMode: Force
Supports Dynamic Layers: false
MaxRecordCount:  2000
MaxImageHeight:  4096
MaxImageWidth:  4096
Supported Query Formats:  JSON, geoJSON, PBF
Supports Query Data Elements:  true
Min Scale:  0
Max Scale:  0
Supports Datum Transformation:  true
Child Resources:
  
Info
 
Supported Operations:
  
Export Map
  QueryLegends
  Return Updates
  Generate KML