View In:
ArcGIS JavaScript
ArcGIS.com Map
Google Earth
ArcMap
ArcGIS Explorer
View Footprint In:
ArcGIS.com Map
Service Description: This map is in
Extended Support and is no longer updated. Esri recommends that you use
USA_Topo_Maps instead (ArcGIS 9.3 or higher is required).
Map Name: Layers
Legend
All Layers and Tables
Layers:
Description: This map presents land cover imagery for the world and detailed topographic maps for the United States. The map includes the National Park Service (NPS) Natural Earth physical map at 1.24km per pixel for the world at small scales, i-cubed eTOPO 1:250,000-scale maps for the contiguous United States at medium scales, and National Geographic TOPO! 1:100,000 and 1:24,000-scale maps (1:250,000 and 1:63,000 in Alaska) for the United States at large scales. The TOPO! maps are seamless, scanned images of United States Geological Survey (USGS) paper topographic maps. For more information on this map, including our terms of use, visit us online at http://goto.arcgisonline.com/maps/NGS_Topo_US_2D
Copyright Text: Copyright: © 2013 National Geographic Society
Spatial Reference:
4326
(4326)
Single Fused Map Cache: true
Tile Info:
- Height: 512
- Width: 512
- DPI: 96
-
Levels of Detail: 14
-
Level ID: 8
[ Start Tile, End Tile ]
- Resolution: 0.001373291015625
- Scale: 577143.747208662
-
Level ID: 9
[ Start Tile, End Tile ]
- Resolution: 6.866455078125E-4
- Scale: 288571.873604331
-
Level ID: 10
[ Start Tile, End Tile ]
- Resolution: 3.4332275390625E-4
- Scale: 144285.936802165
-
Level ID: 11
[ Start Tile, End Tile ]
- Resolution: 1.71661376953125E-4
- Scale: 72142.9684010827
-
Level ID: 12
[ Start Tile, End Tile ]
- Resolution: 8.58306884765629E-5
- Scale: 36071.4842005414
-
Level ID: 13
[ Start Tile, End Tile ]
- Resolution: 4.29153442382814E-5
- Scale: 18035.7421002707
- Format: JPEG
- Compression Quality: 75.0
- Origin: X: -180.0
Y: 90.0
- Spatial Reference: 4326
(4326)
Initial Extent:
XMin: -179.999999
YMin: -89.999999
XMax: 179.999999
YMax: 89.999999
Spatial Reference: 4326
Full Extent:
XMin: -179.999999
YMin: -89.999999
XMax: 179.999999
YMax: 89.999999
Spatial Reference: 4326
Units: esriDecimalDegrees
Supported Image Format Types: PNG32,PNG24,PNG,JPG,DIB,TIFF,EMF,PS,PDF,GIF,SVG,SVGZ,BMP
Document Info:
Title: USA Topographic Map
Author: Esri
Comments:
Subject: topography, topographic, land cover, physical, TOPO!
Category: imageryBaseMapsEarthCover (Imagery, basemaps, and land cover)
Keywords: World,Global,United States,2008
AntialiasingMode: None
TextAntialiasingMode: Force
Supports Dynamic Layers: false
MaxRecordCount: 1000
MaxImageHeight: 4096
MaxImageWidth: 4096
Supported Query Formats: JSON, AMF
Min Scale: 1.47748799285417E8
Max Scale: 18035.7421002707
Child Resources:
Info
Supported Operations:
Export Map
Return Updates
Generate KML