View In:
ArcMap
ArcGIS Explorer
ArcGIS JavaScript
Google Earth
ArcGIS.com Map
Bing Maps
(terms of use)
Google Maps
(terms of use)
View Footprint In:
Google Earth
Service Description: This map presents low-resolution imagery for the world and high-resolution imagery for the United States and other areas around the world. The map includes NASA Blue Marble: Next Generation 500m resolution imagery at small scales (above 1:1,000,000), i-cubed 15m eSAT imagery at medium-to-large scales (down to 1:70,000) for the world, and USGS 15m Landsat imagery for Antarctica. The map features i-cubed Nationwide Prime 1m or better resolution imagery for the contiguous United States, Getmapping 1m resolution imagery for Great Britain, AeroGRID 1m to 2m resolution imagery for several countries in Europe, IGN 1m resolution imagery for Spain, IGP 1m resolution imagery for Portugal, and GeoEye IKONOS 1m resolution imagery for Hawaii, parts of Alaska, and several hundred metropolitan areas around the world. Additionally, imagery contributed by the GIS User Community has been added in Alaska, New York and Virginia.
i-cubed Nationwide Prime is a seamless, color mosaic of various commercial and government imagery sources, including Aerials Express 0.3 to 0.6m resolution imagery for metropolitan areas and the best available United States Department of Agriculture (USDA) National Agriculture Imagery Program (NAIP) imagery and enhanced versions of United States Geological Survey (USGS) Digital Ortho Quarter Quad (DOQQ) imagery for other areas.
For more information on this map, visit us
online.
Map Name: Layers
Legend
All Layers and Tables
Layers:
Tables:
Description: This map presents low-resolution imagery for the world and high-resolution imagery for the United States and other areas around the world. The map includes NASA Blue Marble: Next Generation 500m resolution imagery at small scales (above 1:1,000,000), i-cubed 15m eSAT imagery at medium-to-large scales (down to 1:70,000) for the world, and USGS 15m Landsat imagery for Antarctica. The map features i-cubed Nationwide Prime 1m or better resolution imagery for the contiguous United States, Getmapping 1m resolution imagery for Great Britain, AeroGRID 1m to 2m resolution imagery for several countries in Europe, IGN 1m resolution imagery for Spain, IGP 1m resolution imagery for Portugal, and GeoEye IKONOS 1m resolution imagery for Hawaii, parts of Alaska, and several hundred metropolitan areas around the world. Additionally, imagery contributed by the GIS User Community has been added in Alaska, New York and Virginia.
i-cubed Nationwide Prime is a seamless, color mosaic of various commercial and government imagery sources, including Aerials Express 0.3 to 0.6m resolution imagery for metropolitan areas and the best available United States Department of Agriculture (USDA) National Agriculture Imagery Program (NAIP) imagery and enhanced versions of United States Geological Survey (USGS) Digital Ortho Quarter Quad (DOQQ) imagery for other areas.
For more information on this map, visit us online at http://goto.arcgisonline.com/maps/World_Imagery
Copyright Text: Source: Esri, i-cubed, USDA, USGS, AEX, GeoEye, Getmapping, Aerogrid, IGN, IGP, and the GIS User Community
Spatial Reference: 102100 (3857)
Single Fused Map Cache: true
Tile Info:
- Height: 256
- Width: 256
- DPI: 96
- Levels of Detail: (# Levels: 20)
-
Level ID: 0
[Start Tile,
End Tile]
Resolution: 156543.033928
Scale: 591657527.591555
-
Level ID: 1
[Start Tile,
End Tile]
Resolution: 78271.5169639999
Scale: 295828763.795777
-
Level ID: 2
[Start Tile,
End Tile]
Resolution: 39135.7584820001
Scale: 147914381.897889
-
Level ID: 3
[Start Tile,
End Tile]
Resolution: 19567.8792409999
Scale: 73957190.948944
-
Level ID: 4
[Start Tile,
End Tile]
Resolution: 9783.93962049996
Scale: 36978595.474472
-
Level ID: 5
[Start Tile,
End Tile]
Resolution: 4891.96981024998
Scale: 18489297.737236
-
Level ID: 6
[Start Tile,
End Tile]
Resolution: 2445.98490512499
Scale: 9244648.868618
-
Level ID: 7
[Start Tile,
End Tile]
Resolution: 1222.99245256249
Scale: 4622324.434309
-
Level ID: 8
[Start Tile,
End Tile]
Resolution: 611.49622628138
Scale: 2311162.217155
-
Level ID: 9
[Start Tile,
End Tile]
Resolution: 305.748113140558
Scale: 1155581.108577
-
Level ID: 10
[Start Tile,
End Tile]
Resolution: 152.874056570411
Scale: 577790.554289
-
Level ID: 11
[Start Tile,
End Tile]
Resolution: 76.4370282850732
Scale: 288895.277144
-
Level ID: 12
[Start Tile,
End Tile]
Resolution: 38.2185141425366
Scale: 144447.638572
-
Level ID: 13
[Start Tile,
End Tile]
Resolution: 19.1092570712683
Scale: 72223.819286
-
Level ID: 14
[Start Tile,
End Tile]
Resolution: 9.55462853563415
Scale: 36111.909643
-
Level ID: 15
[Start Tile,
End Tile]
Resolution: 4.77731426794937
Scale: 18055.954822
-
Level ID: 16
[Start Tile,
End Tile]
Resolution: 2.38865713397468
Scale: 9027.977411
-
Level ID: 17
[Start Tile,
End Tile]
Resolution: 1.19432856685505
Scale: 4513.988705
-
Level ID: 18
[Start Tile,
End Tile]
Resolution: 0.597164283559817
Scale: 2256.994353
-
Level ID: 19
[Start Tile,
End Tile]
Resolution: 0.298582141647617
Scale: 1128.497176
- Format: JPEG
- Compression Quality: 75
-
Origin:
X: -20037508.342787
Y: 20037508.342787
- Spatial Reference: 102100 (3857)
Intial Extent:
XMin: -20037507.2295943
YMin: -20037507.2295944
XMax: 20037507.2295943
YMax: 20037507.2295943
Spatial Reference: 102100 (3857)
Full Extent:
XMin: -20037507.2295943
YMin: -19971868.8804086
XMax: 20037507.2295943
YMax: 19971868.8804086
Spatial Reference: 102100 (3857)
Units: esriMeters
Supported Image Format Types: PNG24,PNG,JPG,DIB,TIFF,EMF,PS,PDF,GIF,SVG,SVGZ,AI,BMP
Document Info:
- Title: World Imagery
- Author: Esri
- Comments:
- Subject: imagery, satellite, aerial, 500m (World), 15m (World)
- Category: imageryBaseMapsEarthCover (Imagery, basemaps, and land cover)
- Keywords: World, Global, United States
- Credits: Source: Esri, i-cubed, USDA, USGS, AEX, GeoEye, Getmapping, Aerogrid, IGN, IGP, and the GIS User Community
Supported Interfaces:
REST
SOAP
Supported Operations:
Export Map
Identify
Find
Generate KML