View In:
  ArcGIS JavaScript
  ArcGIS Online Map Viewer
  ArcGIS Earth
  ArcGIS Pro
Service Description:  This map presents a digital version of the Operational Navigation Charts (ONC) at 1:1,000,000-scale, produced by the US National Geospatial-Intelligence Agency (NGA). The map includes over 200 charts across the world, excluding parts of North America, Europe, Asia, and Oceania where charts are not publicly available. For more information on this map, including our terms of use, visit us online at https://goto.arcgisonline.com/maps/World_Navigation_Charts
 Layers
Legend
All Layers and Tables
Layers: 
Description:  This map presents a digital version of the Operational Navigation Charts (ONC) at 1:1,000,000-scale, produced by the US National Geospatial-Intelligence Agency (NGA). The map includes over 200 charts across the world, excluding parts of North America, Europe, Asia, and Oceania where charts are not publicly available. For more information on this map, including our terms of use, visit us online at https://goto.arcgisonline.com/maps/World_Navigation_Charts
 Copyright:(c) 2013 East View Cartographic 
Spatial Reference: 
102100
 (3857)
Single Fused Map Cache:  true
Tile Info: 
- Height: 256
- Width: 256
- DPI: 96
- 
Levels of Detail:  11
- 
Level ID: 0
[ Start Tile, End Tile ]
- Resolution: 156543.03392800014
- Scale: 5.91657527591555E8
- 
Level ID: 1
[ Start Tile, End Tile ]
- Resolution: 78271.51696399994
- Scale: 2.95828763795777E8
- 
Level ID: 2
[ Start Tile, End Tile ]
- Resolution: 39135.75848200009
- Scale: 1.47914381897889E8
- 
Level ID: 3
[ Start Tile, End Tile ]
- Resolution: 19567.87924099992
- Scale: 7.3957190948944E7
- 
Level ID: 4
[ Start Tile, End Tile ]
- Resolution: 9783.93962049996
- Scale: 3.6978595474472E7
- 
Level ID: 5
[ Start Tile, End Tile ]
- Resolution: 4891.96981024998
- Scale: 1.8489297737236E7
- Format: JPEG
- Compression Quality: 90.0
- Origin: X:  -2.0037508342787E7
 Y:  2.0037508342787E7
 
- Spatial Reference: 102100
 (3857)
 
Storage Info:
- Storage Format: esriMapCacheStorageModeCompactV2
- Packet Size: 128
Initial Extent:
XMin: -2.0037507067161843E7
YMin: -2.328451214794976E7
XMax: 2.0037507067161843E7
YMax: 2.3328666329414517E7
Spatial Reference: 102100
 (3857)
Full Extent:
XMin: -2.0037507067161843E7
YMin: -1.999070943504232E7
XMax: 2.0037507067161843E7
YMax: 2.0034863616507012E7
Spatial Reference: 102100
 (3857)
Units: esriMeters
Supported Image Format Types:  PNG32,PNG24,PNG,JPG,DIB,TIFF,EMF,PS,PDF,GIF,SVG,SVGZ,BMP
Document Info: 
Title: World Navigation Charts
Author: 
Comments: <DIV STYLE="text-align:Left;font-size:12pt"><P><SPAN>This map presents a digital version of the Operational Navigation Charts (ONC) at 1:1,000,000-scale, produced by the US National Geospatial-Intelligence Agency (NGA). The map includes over 200 charts across the world, excluding parts of North America, Europe, Asia, and Oceania where charts are not publicly available. For more information on this map, including our terms of use, visit us online at https://goto.arcgisonline.com/maps/World_Navigation_Charts</SPAN></P></DIV>
Subject: In mature support; no longer updated.
Category: 
Keywords: World,Global
AntialiasingMode: Fast
TextAntialiasingMode: Force
Supports Dynamic Layers: false
MaxRecordCount:  2000
MaxImageHeight:  4096
MaxImageWidth:  4096
Supported Query Formats:  JSON, geoJSON, PBF
Supports Query Data Elements:  true
Min Scale:  0
Max Scale:  0
Supports Datum Transformation:  true
Child Resources:
  
Info
 
Supported Operations:
  
Export Map
  QueryLegends
  Return Updates
  Generate KML