View In:
ArcMap
ArcGIS Explorer
ArcGIS JavaScript
Google Earth
ArcGIS.com Map
View Footprint In:
Google Earth
Service Description: This map is in
Extended Support and is no longer updated. Esri recommends that you use
World_Imagery instead (ArcGIS 9.3 or higher is required).
Map Name: Layers
Legend
All Layers and Tables
Layers:
Tables:
Description: This map presents low-resolution imagery for the world and high-resolution imagery for the United States and other metropolitan areas around the world. The map includes NASA Blue Marble: Next Generation 500m resolution imagery at small scales (above 1:1,000,000), i-cubed 15m eSAT imagery at medium-to-large scales (down to 1:70,000) for the world, and USGS 15m Landsat imagery for Antarctica. It also includes 1m i-cubed Nationwide Select imagery for the continental United States, and GeoEye IKONOS 1m resolution imagery for Hawaii, parts of Alaska, and several hundred metropolitan areas around the world. For more information on this map, visit us online at http://goto.arcgisonline.com/maps/ESRI_Imagery_World_2D
Copyright Text: Copyright:© 2009 ESRI, i-cubed, GeoEye
Spatial Reference: 4326
Single Fused Map Cache: true
Tile Info:
- Height: 512
- Width: 512
- DPI: 96
- Levels of Detail: (# Levels: 16)
-
Level ID: 0
[Start Tile,
End Tile]
Resolution: 0.3515625
Scale: 147748799.285417
-
Level ID: 1
[Start Tile,
End Tile]
Resolution: 0.17578125
Scale: 73874399.6427087
-
Level ID: 2
[Start Tile,
End Tile]
Resolution: 0.087890625
Scale: 36937199.8213544
-
Level ID: 3
[Start Tile,
End Tile]
Resolution: 0.0439453125
Scale: 18468599.9106772
-
Level ID: 4
[Start Tile,
End Tile]
Resolution: 0.02197265625
Scale: 9234299.95533859
-
Level ID: 5
[Start Tile,
End Tile]
Resolution: 0.010986328125
Scale: 4617149.97766929
-
Level ID: 6
[Start Tile,
End Tile]
Resolution: 0.0054931640625
Scale: 2308574.98883465
-
Level ID: 7
[Start Tile,
End Tile]
Resolution: 0.00274658203125
Scale: 1154287.49441732
-
Level ID: 8
[Start Tile,
End Tile]
Resolution: 0.001373291015625
Scale: 577143.747208662
-
Level ID: 9
[Start Tile,
End Tile]
Resolution: 0.0006866455078125
Scale: 288571.873604331
-
Level ID: 10
[Start Tile,
End Tile]
Resolution: 0.00034332275390625
Scale: 144285.936802165
-
Level ID: 11
[Start Tile,
End Tile]
Resolution: 0.000171661376953125
Scale: 72142.9684010827
-
Level ID: 12
[Start Tile,
End Tile]
Resolution: 8.58306884765629E-05
Scale: 36071.4842005414
-
Level ID: 13
[Start Tile,
End Tile]
Resolution: 4.29153442382814E-05
Scale: 18035.7421002707
-
Level ID: 14
[Start Tile,
End Tile]
Resolution: 2.14576721191407E-05
Scale: 9017.87105013534
-
Level ID: 15
[Start Tile,
End Tile]
Resolution: 1.07288360595703E-05
Scale: 4508.93552506767
- Format: JPEG
- Compression Quality: 75
-
Origin:
- Spatial Reference: 4326
Intial Extent:
XMin: -195.810808635135
YMin: -89.999999
XMax: 195.810808635135
YMax: 89.999999
Spatial Reference: 4326
Full Extent:
XMin: -179.999999
YMin: -89.999999
XMax: 179.999999
YMax: 89.999999
Spatial Reference: 4326
Units: esriDecimalDegrees
Supported Image Format Types: PNG24,PNG,JPG,DIB,TIFF,EMF,PS,PDF,GIF,SVG,SVGZ,AI,BMP
Document Info:
- Title: World Imagery
- Author: ESRI
- Comments:
- Subject: imagery, satellite, aerial, 500m (World), 15m (World), 15m (Antarctica), 1m (World Cities), 1m (United States), CONUS, IKONOS
- Category: imageryBaseMapsEarthCover (Imagery, basemaps, and land cover)
- Keywords: World, Global, United States, Antarctica 2009
- Credits:
Supported Interfaces:
REST
SOAP
Supported Operations:
Export Map
Identify
Find
Generate KML